BEGIN:VCALENDAR
VERSION:2.0
PRODID:-//SIS Sächsisches Institut für Spiel - ECPv6.15.20//NONSGML v1.0//EN
CALSCALE:GREGORIAN
METHOD:PUBLISH
X-WR-CALNAME:SIS Sächsisches Institut für Spiel
X-ORIGINAL-URL:https://www.sis3.eu
X-WR-CALDESC:Veranstaltungen für SIS Sächsisches Institut für Spiel
REFRESH-INTERVAL;VALUE=DURATION:PT1H
X-Robots-Tag:noindex
X-PUBLISHED-TTL:PT1H
BEGIN:VTIMEZONE
TZID:Europe/Berlin
BEGIN:DAYLIGHT
TZOFFSETFROM:+0100
TZOFFSETTO:+0200
TZNAME:CEST
DTSTART:20250330T010000
END:DAYLIGHT
BEGIN:STANDARD
TZOFFSETFROM:+0200
TZOFFSETTO:+0100
TZNAME:CET
DTSTART:20251026T010000
END:STANDARD
BEGIN:DAYLIGHT
TZOFFSETFROM:+0100
TZOFFSETTO:+0200
TZNAME:CEST
DTSTART:20260329T010000
END:DAYLIGHT
BEGIN:STANDARD
TZOFFSETFROM:+0200
TZOFFSETTO:+0100
TZNAME:CET
DTSTART:20261025T010000
END:STANDARD
BEGIN:DAYLIGHT
TZOFFSETFROM:+0100
TZOFFSETTO:+0200
TZNAME:CEST
DTSTART:20270328T010000
END:DAYLIGHT
BEGIN:STANDARD
TZOFFSETFROM:+0200
TZOFFSETTO:+0100
TZNAME:CET
DTSTART:20271031T010000
END:STANDARD
END:VTIMEZONE
BEGIN:VEVENT
DTSTART;VALUE=DATE:20260912
DTEND;VALUE=DATE:20260914
DTSTAMP:20260422T103306
CREATED:20260103T122035Z
LAST-MODIFIED:20260103T122035Z
UID:10000115-1789171200-1789343999@www.sis3.eu
SUMMARY:Ravensburg Spielt! 2026
DESCRIPTION:Komm\, mach mit!\nSeid dabei\, wenn sich Ravensburg wieder für zwei Tage in die größte Spielemeile Oberschwabens verwandelt! In der ganzen Altstadt wird gespielt – und das kostenlos und für alle: Groß und Klein\, Alt und Jung. \nSpielemeile\nIn vier Aktionsbereichen könnt ihr Brett- und Würfelspiele ausprobieren\, selbst kreativ werden\, sportlich aktiv sein oder digitale Spiele testen. \nBühnenprogramm\nAuf drei Bühnen gibt es unterhaltsame Shows zum Lachen\, Staunen und Mitmachen.\nLasst euch von Spiel\, Tanz- und Sportvorführungen begeistern. \nHighlights\nAm Riesen-Puzzle im Schwörsaal mitbauen\, bei der langen Spielenacht bis 2 Uhr nicht müde werden\, mit einer Rallye das Museumsviertel entdecken – das klingt nach Spannung und Spaß? Komm\, mach mit! \nGut ankommen mit dem 1-Euro-Bus\nDer Stadtbus Ravensburg Weingarten bringt euch am Samstag und Sonntag für nur 1 €\nzum Spielefest. 3 Kinder bis 14 Jahre fahren in Begleitung eines Erwachsenen kostenlos mit.
URL:https://www.sis3.eu/event/ravensburg-spielt-2026/
LOCATION:Ravensburg
CATEGORIES:Spieletage
END:VEVENT
BEGIN:VEVENT
DTSTART;VALUE=DATE:20260919
DTEND;VALUE=DATE:20260921
DTSTAMP:20260422T103306
CREATED:20260103T153429Z
LAST-MODIFIED:20260103T153429Z
UID:10000133-1789776000-1789948799@www.sis3.eu
SUMMARY:Stadt\, Land\, Spielt!
DESCRIPTION:PIELEND wird gelernt und LERNEN geht oft spielend leicht – wer spielt\, lernt gewinnen und verlieren\, erwirbt kognitive Fähigkeiten und schult sich im Umgang mit anderen. Spaß macht SPIELEN obendrein. Warum also nicht öfters zum Brettspiel greifen? Wer neue Spiele testen oder einfach mit Freunden mal spielen möchte\, hat dazu bei „Stadt-Land- Spielt!“ alle Möglichkeiten und vielleicht auch ganz in der Nähe. Jedes Jahr im September treffen sich Spielbegeisterte – Groß und Klein\, Jung und Alt – an vielen Orten bei verschiedensten Veranstaltern im deutschsprachigen Raum. Mit unseren engagierten Partner-Verlagen\, die zahlreiche Spiele zur Verfügung stellen\, unterstützen wir die Veranstalter. \n„Stadt-Land- Spielt!“ findet im Jahr 2026 am Wochenende 19./20. September statt. An 400 Standorten in Deutschland\, in Österreich\, in der Schweiz und in Belgien wurde im Jahr 2025 gespielt. Spieleclubs\, Spieliotheken\, Bibliotheken\, Spiele- und Buchgeschäfte\, Jugendzentren\, Kultureinrichtungen\, Urlaubsdestinationen und weitere öffentlichen Einrichtungen tragen diese Veranstaltung aus. Auch Spiele-Clubs in Polen laden zu „Stadt-Land-Spielt!“ ein. Sie managen das Wochenende in Eigenregie\, ganz im Sinne unseres Non-Profit-Projekts. \nWo überall im September 2025 gespielt wurde\, können Interessierte hier entdecken.
URL:https://www.sis3.eu/event/stadt-land-spielt/
LOCATION:deutschlandweit\, Parallelstr. 71\, Musterstadt\, 12345\, Germany
CATEGORIES:Spieletage
ORGANIZER;CN="Gst. 'Stadt-Land-Spielt!'":MAILTO:info@stadt-land-spielt.de
END:VEVENT
BEGIN:VEVENT
DTSTART;VALUE=DATE:20260925
DTEND;VALUE=DATE:20260928
DTSTAMP:20260422T103306
CREATED:20260103T134220Z
LAST-MODIFIED:20260103T134243Z
UID:10000130-1790294400-1790553599@www.sis3.eu
SUMMARY:Kreativ + Spiel in Bremen 2026
DESCRIPTION:Die Messe Kreativ + Spiel in Bremen ist eine Kreativ- und Spielemesse. Die Spiele- und Kreativmesse bietet die ideale Bühne\, um interessiertes und kaufkräftiges Publikum mit Händlern\, Herstellern und Entwicklern der Kreativ- und Spielebranche in stilvollem Ambiente zusammen zu bringen. Die Kreativ + Spiel Messe Bremen bietet ein Zentrum für Kreativität und Spielkultur. Hier treffen kreative Köpfe\, Entwickler und spielebegeisterte Besucher aufeinander\, die auf der Suche nach den neuesten Trends\, spannenden Spielen und innovativen Ideen sind. Ein abwechslungsreiches Programm mit interaktiven Workshops und aufregenden Spiele-Events bindet das Publikum aktiv in Ihr Markenerlebnis ein. Parallel zur Kreativ+Spiel in Bremen finden in weiteren Hallen unsere etablierten und beliebten Veranstaltungen HerbstZeit\, TrauZeit und GrillGut statt.
URL:https://www.sis3.eu/event/kreativ-spiel-in-bremen/
LOCATION:Messe Bremen\, Findorffstraße 101\, Bremen\, 28215\, Germany
CATEGORIES:Messe
ORGANIZER;CN="MESSE BREMEN & %C3%96VB-Arena - M3B GmbH":MAILTO:info@messe-bremen.de
END:VEVENT
BEGIN:VEVENT
DTSTART;VALUE=DATE:20261002
DTEND;VALUE=DATE:20261005
DTSTAMP:20260422T103306
CREATED:20260103T122317Z
LAST-MODIFIED:20260103T122317Z
UID:10000116-1790899200-1791158399@www.sis3.eu
SUMMARY:Hobbymesse Leipzig 2026
DESCRIPTION:Die Hobbymesse Leipzig (ehemals modell-hobby-spiel) ist die vielseitigste Freizeitmesse in Deutschland für Modellbau\, Modelleisenbahn\, Technik\, Spiele\, Kreatives und Sport. Hersteller und Händler bieten zum Auftakt des Weihnachtsgeschäftes ihre aktuellen Produkte an. Dazu präsentieren sich mehr als 70 Vereine mit aufwändigen Aktionen. Als Einkaufsparadies und riesige Erlebniswelt lädt die Hobbymesse Leipzig ein\, Angebote zu testen\, neue Hobbys zu finden und Gleichgesinnte zu treffen.
URL:https://www.sis3.eu/event/hobbymesse-leipzig-2026/
LOCATION:Messe Leipzig\, Messe-Allee 1\, Leipzig\, Sachsen\, 04356\, Deutschland
CATEGORIES:Messe,Schmidt Spiele Tour
ORGANIZER;CN="Leipziger Messe GmbH":MAILTO:info@leipziger-messe.de
END:VEVENT
BEGIN:VEVENT
DTSTART;TZID=Europe/Berlin:20261002T180000
DTEND;TZID=Europe/Berlin:20261002T230000
DTSTAMP:20260422T103306
CREATED:20260102T192738Z
LAST-MODIFIED:20260102T192738Z
UID:10000095-1790964000-1790982000@www.sis3.eu
SUMMARY:Spieleabende Chemnitzer Würfeltürmer e.V.
DESCRIPTION:Ab 18 Uhr erwarten die Chemnitzer Würfeltürmer alle Spielbegeisterten und solche\, die es werden wollen\, im Inspire. Ob zur Teilnahme an Turnieren\, zum Spielen in gemütlicher Runde\, zum Kennenlernen der Vereinsmitglieder oder Fachsimpeln über aktuelle Brett- und Kartenspiele – die Türmer freuen sich auf Euch sowie viele spannende Gespräche und Spielerunden!
URL:https://www.sis3.eu/event/spieleabende-chemnitzer-wuerfeltuermer-e-v/2026-10-02/
LOCATION:Inspire Chemnitz\, Brühl 49\, Chemnitz\, Sachsen\, 09111\, Germany
CATEGORIES:Spieleabend
ORGANIZER;CN="Chemnitzer W%C3%BCrfelt%C3%BCrmer eV":MAILTO:vorstand@wuerfeltuermer.de
END:VEVENT
BEGIN:VEVENT
DTSTART;VALUE=DATE:20261016
DTEND;VALUE=DATE:20261019
DTSTAMP:20260422T103306
CREATED:20260104T175308Z
LAST-MODIFIED:20260226T135905Z
UID:10000145-1792108800-1792367999@www.sis3.eu
SUMMARY:Schmidt Spiele Tour im Nordseeheilbad Cuxhaven Herbst
DESCRIPTION:Herbstliche Spielezeit im Nordseeheilbad Cuxhaven. Wenn es draußen ruhiger und die Abende länger werden\, kann man gemütlich am Strand spazieren gehen und die rauhe Natur genießen. Für alle Spieleliebhaber lädt die Schmidt Spiele Tour zu einem langen familiären Spielewochenende im Warmen in der Stadt der Kugelbake ein. \n  \n\nTouristinformationen in Cuxhaven\nCuxhavener Str. 92\n27476 Cuxhaven \nLink zur Tourismuszentrale
URL:https://www.sis3.eu/event/schmidt-spiele-tour-im-nordseeheilbad-cuxhaven-herbst/
LOCATION:Touristinformationen in Cuxhaven\, Cuxhavener Str. 92\, Cuxhaven\, Niedersachsen\, 27476\, Deutschland
CATEGORIES:Schmidt Spiele Tour
END:VEVENT
BEGIN:VEVENT
DTSTART;VALUE=DATE:20261019
DTEND;VALUE=DATE:20261024
DTSTAMP:20260422T103306
CREATED:20260104T175055Z
LAST-MODIFIED:20260104T180001Z
UID:10000150-1792368000-1792799999@www.sis3.eu
SUMMARY:Spielen in der Spielescheune Butjadingen Herbst 2026
DESCRIPTION:Schlechtes Wetter an der Nordsee? Kein Problem\, in der Spielscheune Butjadingen ist immer etwas los. Der 3.000 qm große Indoorspielplatz in Burhave lässt keinen Kinderwunsch unerfüllt. Rutschen\, klettern\, hüpfen und mit Schmidt Spielen spielen und puzzlen – hier ist Action pur angesagt\, das ganze Jahr. \nUnd wenn die Drachen steigen sind wir für Euch mit den Neuheiten des Herbstes und vielen Spielideen direkt vor Ort. Schaut rein\, spielt mit und freut Euch auf lustige Stunden. \n  \n\nSpielescheune Butjadingen\nStrandallee 57a\n26969 Butjadingen – Burhave \nLink zur Spielescheune
URL:https://www.sis3.eu/event/spielen-in-der-spielescheune-2/
LOCATION:Spielscheune Butjadingen\, Strandallee 57a\, Butjadingen - Burhave\, Niedersachsen\, 26969\, Deutschland
CATEGORIES:Schmidt Spiele Tour
END:VEVENT
BEGIN:VEVENT
DTSTART;VALUE=DATE:20261022
DTEND;VALUE=DATE:20261026
DTSTAMP:20260422T103306
CREATED:20260103T122548Z
LAST-MODIFIED:20260103T122548Z
UID:10000118-1792627200-1792972799@www.sis3.eu
SUMMARY:Internationale Spieletage SPIEL Essen 2026
DESCRIPTION:Tausende Spieltische auf einer Fläche so groß wie etwa acht Fußballfelder erwarten Brettspielenthusiasten jeden Alters. Überall stehen Spieleerklärer bereit\, die darauf brennen\, in die Neuheiten einzuführen. Kleine Verlage aus aller Welt mischen sich mit großen renommierten Anbietern. Es wird gelacht\, getüftelt und geknobelt. Auf der SPIEL herrscht eine ganz besondere Atmosphäre. Wettbewerbe\, Turniere und Weltmeiterschaften gehören ebenso zum Rahmenprogramm wie Panels\, Diskussionsrunden\, der EDUCATORS‘ DAY\, der sich an Pädagogen richtet\, oder der Research Day\, der Brettspiele wissenschaftlich beleuchtet. \nEin wahres Paradies für Brettspiel-Fans\, die sich Jahr für Jahr aus aller Herren Länder auf den Weg nach Essen machen. Rund um den Erdball wird mehr denn je gespielt. Gesellschaftsspiele machen nicht nur im Kreise der Familie Spaß\, auch bei Erwachsenen sind sie ein beliebtes Freizeitvergnügen. Auch Fachbesucher erwarten die neue Ausgabe der Weltleitmesse mit Spannung\, auf der Ende Oktober mehr als 950 Spieleverlage aus 56 Nationen rund 1.500 Innovationen zeigen. Denn die Veranstaltung ist traditionell der Startschuss in die wichtige Weihnachtssaison\, in der rund 40-50% des Jahresumsatzes erzielt werden. Bunt und vielfältig präsentieren sich die diesjährigen Neuheiten. Immer ausgeklügeltere\, schönere\, grafisch aufwändige und auch anspruchsvolle Spiele kommen auf den Markt. Die Auswahl ist riesig. \n 
URL:https://www.sis3.eu/event/internationale-spieletage-spiel-essen-2026/
LOCATION:Messe Essen Gruga\, Messeplatz 1\, Essen\, 45131\, Deutschland
CATEGORIES:Messe
ORGANIZER;CN="Friedhelm Merz Verlag GmbH & Co KG":MAILTO:info@merz-verlag.com
END:VEVENT
BEGIN:VEVENT
DTSTART;VALUE=DATE:20261106
DTEND;VALUE=DATE:20261109
DTSTAMP:20260422T103306
CREATED:20260103T123004Z
LAST-MODIFIED:20260103T123004Z
UID:10000120-1793923200-1794182399@www.sis3.eu
SUMMARY:SPIELWIESN Augsburg 2026
DESCRIPTION:Die größte süddeutsche Spielemesse\, DAS Kultevent und MUSS für alle Spielfreaks und Anhänger von Brett- und Gesellschaftsspielen. Zum 30. Mal findet die SPIELWIESN in Augsburg statt. \n\nAuf der SPIELWIESN können Groß und Klein Spielneuheiten ausprobieren\, Altbewährtes neu entdecken und sich von den Angeboten der Aussteller inspirieren lassen.\nTrefft Spieleautoren oder entwickelt in der Spieleerfinder-Werkstatt euer eigenes Spiel.
URL:https://www.sis3.eu/event/spielwiesn-augsburg-2026/
LOCATION:Messe Augsburg\, Am Messezentrum 5\, Augsburg\, Bayern\, 86159\, Deutschland
CATEGORIES:Messe,Spieletage
END:VEVENT
BEGIN:VEVENT
DTSTART;TZID=Europe/Berlin:20261106T100000
DTEND;TZID=Europe/Berlin:20261108T180000
DTSTAMP:20260422T103306
CREATED:20260103T123059Z
LAST-MODIFIED:20260103T123059Z
UID:10000121-1793959200-1794160800@www.sis3.eu
SUMMARY:SPIELidee – KREATIVidee – MODELLidee Rostock 2026
DESCRIPTION:Das abwechslungsreiche Angebot unserer Erlebnismesse mit spannenden Turnieren\, kreativen Workshops und kurzweiligen Aktionen wird den Besuch wieder zu einem tollen Erlebnis für die ganze Familie machen. Egal ob Sie ein Geschenk basteln\, mit den Kindern ein Gesellschaftsspiel spielen oder durch den Truckparcours fahren wollen- die Messe hat dann  für jeden was dabei. \nSPIELidee \n\nGroße Spieleausleihe mit über 1.000 Spielen\nLEGO-Spielwiese mit 250.000 Spielsteinen\nGroße LEGO-Fanausstellung\nIndoor Kubb Championship\nPuzzle Championship\nWetten\, dass… (Rostock es nicht schafft\, 100 Puzzle mit insgesamt 26.200 Teilen vom Messefreitag bis -sonntag fertigzustellen)\n\nKREATIVidee \n\nMitmach-Workshops für Groß und Klein\n\nMODELLidee \n\nModellbahnausstellungen\nGroßer Truck- und Baggerparcours und Wasserbecken mit Vorführungen\nFlugareal mit rasanten Flugshows\nSchiffsmodellausstellung mit Offshore – Modellen u.v.m.
URL:https://www.sis3.eu/event/spielidee-kreatividee-modellidee-rostock-2026/
LOCATION:Messe Rostock\, Zur HanseMesse 1-2\, Rostock\, 18106\, Deutschland
CATEGORIES:Messe
END:VEVENT
BEGIN:VEVENT
DTSTART;TZID=Europe/Berlin:20261106T180000
DTEND;TZID=Europe/Berlin:20261106T230000
DTSTAMP:20260422T103306
CREATED:20260102T192738Z
LAST-MODIFIED:20260102T192738Z
UID:10000096-1793988000-1794006000@www.sis3.eu
SUMMARY:Spieleabende Chemnitzer Würfeltürmer e.V.
DESCRIPTION:Ab 18 Uhr erwarten die Chemnitzer Würfeltürmer alle Spielbegeisterten und solche\, die es werden wollen\, im Inspire. Ob zur Teilnahme an Turnieren\, zum Spielen in gemütlicher Runde\, zum Kennenlernen der Vereinsmitglieder oder Fachsimpeln über aktuelle Brett- und Kartenspiele – die Türmer freuen sich auf Euch sowie viele spannende Gespräche und Spielerunden!
URL:https://www.sis3.eu/event/spieleabende-chemnitzer-wuerfeltuermer-e-v/2026-11-06/
LOCATION:Inspire Chemnitz\, Brühl 49\, Chemnitz\, Sachsen\, 09111\, Germany
CATEGORIES:Spieleabend
ORGANIZER;CN="Chemnitzer W%C3%BCrfelt%C3%BCrmer eV":MAILTO:vorstand@wuerfeltuermer.de
END:VEVENT
BEGIN:VEVENT
DTSTART;VALUE=DATE:20261107
DTEND;VALUE=DATE:20261109
DTSTAMP:20260422T103306
CREATED:20260103T122933Z
LAST-MODIFIED:20260103T122933Z
UID:10000119-1794009600-1794182399@www.sis3.eu
SUMMARY:spielraum Dresden 2026
DESCRIPTION:Das coole Spiele-Wochenende in der MESSE DRESDEN \nNeue Spieleabenteuer warten immer im November auf euch! Dann füllen wir 4 Messehallen mit purem Spielvergnügen und namhaften Herstellern wie z.B. Playmobil\, Lego\, Zapf\, Carrera\, Nintendo u.v.m. \nDas erfolgreiche Spiele-Event „Games for Families“ präsentiert wieder auf ca. 2000 qm eine große Vielfalt an kind- und familiengerechten Computer-\, Konsolen und Gesellschaftsspielen. \nAuf der großen Familienspielfläche von meeplebox könnt ihr über 500 aktuelle und klassische Gesellschaftsspiele nach Herzenslust ausprobieren. „Lebende Spielanleitungen“ erklären auf Wunsch jedes Spiel und helfen bei der Spieleauswahl. \nFür alle kleinen und großen Fans des kreativen Bauens gibt es natürlich auch dieses Jahr wieder einen Spielbereich mit 300.000 Lego-Steinen sowie ein großes PLAYMOBIL-Spieleareal. Seid kreativ\, probiert gemeinsam aktuelle Spieltrends aus. Und so kurz vor Weihnachten findet sich bestimmt auch die eine oder andere Geschenkidee.
URL:https://www.sis3.eu/event/spielraum-dresden-2026/
LOCATION:Messe Dresden\, Messering 6\, Dresden\, 01067
CATEGORIES:Messe,Spieletage
END:VEVENT
BEGIN:VEVENT
DTSTART;TZID=Europe/Berlin:20261107T140000
DTEND;TZID=Europe/Berlin:20261107T190000
DTSTAMP:20260422T103306
CREATED:20260103T123727Z
LAST-MODIFIED:20260103T123727Z
UID:10000124-1794060000-1794078000@www.sis3.eu
SUMMARY:34. Altenburger Spieletage 2026
DESCRIPTION:Die 34. Altenburger Spieletage finden diesmal im November statt.
URL:https://www.sis3.eu/event/34-altenburger-spieletage-2026/
LOCATION:Altenburger Spieletage\, Zeitzerstraße 39\, Altenburg\, Thüringen\, 04600\, Deutschland
CATEGORIES:Spieletage
ORGANIZER;CN="Gabriele und Thomas Orymek":MAILTO:info@altenburger-spieletage.de
END:VEVENT
BEGIN:VEVENT
DTSTART;VALUE=DATE:20261114
DTEND;VALUE=DATE:20261116
DTSTAMP:20260422T103306
CREATED:20260103T134933Z
LAST-MODIFIED:20260103T134933Z
UID:10000131-1794614400-1794787199@www.sis3.eu
SUMMARY:Mannheim Spielt! 2026
DESCRIPTION:Am 14. und 15. November ist es wieder soweit: Der Verein SpieleMA e.V. lädt zum Spielewochenende für Jung und Alt ein. Wir spielen und erklären Brettspiele\, Kartenspiele\, Aktionsspiele und vieles mehr. \nDas ist die ideale Gelegenheit\, um uns und die Spieleausleihe im Jugendkulturzentrum Forum besser kennenzulernen. Neben unserer riesigen Auswahl an Spielen\, die alle vor Ort ausprobiert werden können\, erwartet euch ein Gewinnspiel\, ein Spiele-Flohmarkt sowie kleine Turniere\, in denen ihr euch mit anderen Spielern messen könnt. \nFür das leibliche Wohl ist natürlich ebenfalls gesorgt. \nDer Eintritt ist frei!
URL:https://www.sis3.eu/event/mannheim-spielt-2026/
LOCATION:Jugendkulturzentrum Forum\, Neckarpromenade 46\, Mannheim\, 68167\, Deutschland
CATEGORIES:Spieletage
ORGANIZER;CN="SpieleMA e.V.":MAILTO:info@spielema.net
END:VEVENT
BEGIN:VEVENT
DTSTART;VALUE=DATE:20261114
DTEND;VALUE=DATE:20261116
DTSTAMP:20260422T103306
CREATED:20260103T123145Z
LAST-MODIFIED:20260103T123145Z
UID:10000122-1794614400-1794787199@www.sis3.eu
SUMMARY:Spielewelt in Bielefeld 2026
DESCRIPTION:Seit 1995 findet einmal im Jahr in der Ravensberger Spinnerei die „Spielewelt in Bielefeld“ statt. Im Rahmen eines Gesamtkonzeptes „Spiele in der VHS“ entstand diese Veranstaltung des gemeinnützigen Vereins „Spielwiese e.V.“ in Zusammenarbeit mit der Volkshochschule. Das Konzept sah ein Spielfest vor\, das kleineren Spieleverlagen\, Spiele-Clubs und -Initiativgruppen eine Plattform für die Präsentation ihres Hobbys beziehungsweise ihrer Produkte bieten sollte. \nAuch wenn die „Spielewelt in Bielefeld“ inzwischen aufgrund stark gestiegener Besucherzahlen in vielen Bereichen deutlich professioneller abläuft\, wurde an diesem Grundkonzept immer festgehalten. \nAussteller loben immer wieder die einmalige Atmosphäre im Rahmen der Ravensberger Spinnerei und auch wenn zu bestimmten Zeiten während der Veranstaltung die Räumlichkeiten bis an die Grenzen der Kapazität mit Besuchern gefüllt sind\, so stand ein Ortswechsel in größere Veranstaltungsstätten nie ernsthaft in der Diskussion\, denn die fast 150 Jahre alte Spinnerei ist trotz zeitweiliger Enge ein echter Erlebnisort mit einem historischen Charme\, den man erlebt haben muss. \nDas Ziel der Veranstalter ist eine unkommerzielle Veranstaltung\, bei der Aussteller und Besucher gleichermaßen auf ihre Kosten kommen – ein Anspruch\, der nicht immer leicht zu erfüllen ist. Daher sind die Ausstellergebühren an der Untergrenze kalkuliert und decken bei weitem nicht die Kosten der Veranstaltung. Vielmehr arbeiten an dem Wochenende rund 50 – 60 ehrenamtliche Helfer aus dem Verein „Spielwiese e.V.“ tatkräftig mit\, um die Kosten zu reduzieren und eine Kostendeckung zu ermöglich.
URL:https://www.sis3.eu/event/spielewelt-in-bielefeld-2026/
LOCATION:Ravensberger Spinnerei Bielefeld\, Ravensberger Park 1\, Bielefeld\, 33607\, Deutschland
CATEGORIES:Spieletage
END:VEVENT
BEGIN:VEVENT
DTSTART;VALUE=DATE:20261119
DTEND;VALUE=DATE:20261123
DTSTAMP:20260422T103306
CREATED:20260103T131019Z
LAST-MODIFIED:20260103T131019Z
UID:10000127-1795046400-1795391999@www.sis3.eu
SUMMARY:Spielemesse Stuttgart 2026
DESCRIPTION:Ob Familien mit Kindern\, PädagogInnen oder Profis der Spieleszene: auf der Spielemesse findet jede/r die passenden Spiele. Als Süddeutschlands größte Spielemesse bietet sie den Besuchenden ein breites Spektrum an Spielwaren\, Gesellschafts- und Puzzlespielen sowie pädagogischen Spielen. Highlights sind die Verleihung des deutschen Lernspielpreises sowie die riesige LEGO® Bauwelt auf der Galerie.
URL:https://www.sis3.eu/event/spielemesse-stuttgart-2026/
LOCATION:Messe Stuttgart\, Messepiazza 1\, Stuttgart\, 70629\, Deutschland
CATEGORIES:Messe
ORGANIZER;CN="Landesmesse Stuttgart GmbH & Co. KG":MAILTO:info@messe-stuttgart.de
END:VEVENT
BEGIN:VEVENT
DTSTART;VALUE=DATE:20261127
DTEND;VALUE=DATE:20261130
DTSTAMP:20260422T103306
CREATED:20260103T130427Z
LAST-MODIFIED:20260103T130427Z
UID:10000126-1795737600-1795996799@www.sis3.eu
SUMMARY:Spielemesse Hamburg 2026
DESCRIPTION:Die Spielemesse in Hamburg ist das ideale Erlebnis für große und kleine Spieleinteressierte. Der Fokus liegt an allen drei Messetagen auf neuen und altbewährten Lieblingsspielen für alle Altersklassen. Als Besucher*in habt ihr die Möglichkeit in eure eigene Spielewelt abzutauchen; ob allein\, mit Freund*innen oder der ganzen Familie. \n  \nAuf der Spielemesse Hamburg werden Brettspiele\, Gesellschaftsspiele\, Lern- und Wissensspiele\, sowie Rollen- und Bewegungsspiele angeboten. Auf vielen freien Spieleflächen gilt es dann Bekanntes wieder zu finden und Neues zu entdecken. Wer mag\, kann die neuen Lieblingsspiele auch gleich kaufen.  \nDrei Tage im Zeichen des „Digital Detox“. Entgeht dem stressigen Alltag und taucht in eine Welt voller Spiele ein. Auf der Spielemesse Hamburg könnt Ihr drei Tage lang fernab von der digitalen Welt neues Entdecken und gemeinsam viel Spaß haben. \nEbenfalls erwartet euch ein buntes Rahmenprogramm mit vielen großartigen Aktionen\, Wettbewerben und Turnieren. Also freut euch nicht nur auf das Spielen\, sondern auch auf das Kennenlernen und das Miteinander auf der Messe.
URL:https://www.sis3.eu/event/spielemesse-hamburg-2026/
LOCATION:Hamburg Messe\, Bei den Kirchhöfen\, Hamburg\, Hamburg\, 20355\, Germany
CATEGORIES:Messe
ORGANIZER;CN="planetfair GmbH":MAILTO:spielemessehamburg@planetfair.de
END:VEVENT
BEGIN:VEVENT
DTSTART;VALUE=DATE:20261127
DTEND;VALUE=DATE:20261130
DTSTAMP:20260422T103306
CREATED:20260104T181010Z
LAST-MODIFIED:20260104T181010Z
UID:10000152-1795737600-1795996799@www.sis3.eu
SUMMARY:spiel aktiv Insbruck 2026
DESCRIPTION:Die Messe spiel aktiv Innsbruck ist die Familienfreizeit- und Spielemesse des Landes Tirol. Schmidt Spiele ist erstamls dabei und stell Spielklassiker\, Herbstneuheiten und alle Spiele aus dem Verlagsprogramm und von 3 Magier Spiele aus. Es heißt selbst ausprobieren\, Fragen stellen und einfach spielen. Ein actiongeladenes Rahmenprogramm mit verschiedenen Aktionen rundet das Angebotsspektrum der Innsbrucker spiel aktiv Messe ab. \n  \n 
URL:https://www.sis3.eu/event/spiel-aktiv-insbruck-2026/
LOCATION:Messe Insbruck\, Ing.-Etzel-Straße 31\, Innsbruck\, 6020\, Austria
CATEGORIES:Messe
END:VEVENT
BEGIN:VEVENT
DTSTART;VALUE=DATE:20261129
DTEND;VALUE=DATE:20261130
DTSTAMP:20260422T103306
CREATED:20260103T122449Z
LAST-MODIFIED:20260103T122449Z
UID:10000117-1795910400-1795996799@www.sis3.eu
SUMMARY:Paderborner Spieletage 2026
DESCRIPTION:An einem Wochenende im Herbst werden die Paderborner Spieletage ausgerufen.\nHier kann man sich nicht nur Spiele erklären lassen und Neuheiten entdecken\, sondern sich auch bei einem Händler (am Samstag) und auf dem Flohmarkt (am Sonntag) mit neuem Futter eindecken. \nDer Verein organisiert die Veranstaltung und verkauft Brötchen\, Würstchen und Kuchen. Von den Einnahmen werden alle Ausgaben des Vereins gezahlt\, denn es gibt keinen Mitgliedsbeitrag!
URL:https://www.sis3.eu/event/paderborner-spieletage-2026/
LOCATION:Kulturwerkstatt im Ausweichquartier\, Kulturwerkstatt im Ausweichquartier\, Paderborn\, 33106\, Germany
CATEGORIES:Spieletage
END:VEVENT
BEGIN:VEVENT
DTSTART;TZID=Europe/Berlin:20261204T180000
DTEND;TZID=Europe/Berlin:20261204T230000
DTSTAMP:20260422T103306
CREATED:20260102T192738Z
LAST-MODIFIED:20260102T192738Z
UID:10000097-1796407200-1796425200@www.sis3.eu
SUMMARY:Spieleabende Chemnitzer Würfeltürmer e.V.
DESCRIPTION:Ab 18 Uhr erwarten die Chemnitzer Würfeltürmer alle Spielbegeisterten und solche\, die es werden wollen\, im Inspire. Ob zur Teilnahme an Turnieren\, zum Spielen in gemütlicher Runde\, zum Kennenlernen der Vereinsmitglieder oder Fachsimpeln über aktuelle Brett- und Kartenspiele – die Türmer freuen sich auf Euch sowie viele spannende Gespräche und Spielerunden!
URL:https://www.sis3.eu/event/spieleabende-chemnitzer-wuerfeltuermer-e-v/2026-12-04/
LOCATION:Inspire Chemnitz\, Brühl 49\, Chemnitz\, Sachsen\, 09111\, Germany
CATEGORIES:Spieleabend
ORGANIZER;CN="Chemnitzer W%C3%BCrfelt%C3%BCrmer eV":MAILTO:vorstand@wuerfeltuermer.de
END:VEVENT
END:VCALENDAR